BEGIN:VCALENDAR
VERSION:2.0
PRODID:icalendar-ruby
CALSCALE:GREGORIAN
BEGIN:VEVENT
DTSTAMP:20260420T153131Z
UID:340bc8c8-f8ad-47bb-934d-466d60230e1a
DTSTART;VALUE=DATE:20210331
DESCRIPTION:Property ID# 504331\, Time: 10:00AM
SUMMARY:Auction for 
END:VEVENT
END:VCALENDAR
