BEGIN:VCALENDAR
VERSION:2.0
PRODID:icalendar-ruby
CALSCALE:GREGORIAN
BEGIN:VEVENT
DTSTAMP:20260422T180833Z
UID:1db4fead-6ffd-4d9c-8aea-9a5d763c6e45
DTSTART;VALUE=DATE:20230316
DESCRIPTION:Property ID# 552377\, Time: 10:00AM
SUMMARY:Auction for 
END:VEVENT
END:VCALENDAR
