BEGIN:VCALENDAR
VERSION:2.0
PRODID:icalendar-ruby
CALSCALE:GREGORIAN
BEGIN:VEVENT
DTSTAMP:20260422T181900Z
UID:3f5dea96-5b10-4f8a-a247-c722dbbab5df
DTSTART;VALUE=DATE:20230815
DESCRIPTION:Property ID# 555843\, Locatoin: 471 Papanui Road\, Christchurch
  (unless sold prior)\, Time: 3:00PM
SUMMARY:Auction for 
END:VEVENT
END:VCALENDAR
