BEGIN:VCALENDAR
VERSION:2.0
PRODID:icalendar-ruby
CALSCALE:GREGORIAN
BEGIN:VEVENT
DTSTAMP:20260422T180644Z
UID:791295dc-a310-4b84-b041-f9b0befbb707
DTSTART;VALUE=DATE:20230608
DESCRIPTION:Property ID# 557102\, Time: 10:00AM
SUMMARY:Auction for 
END:VEVENT
END:VCALENDAR
