BEGIN:VCALENDAR
VERSION:2.0
PRODID:icalendar-ruby
CALSCALE:GREGORIAN
BEGIN:VEVENT
DTSTAMP:20260422T181309Z
UID:206f19c0-9cdb-40ad-9b4e-5977c11c309e
DTSTART;VALUE=DATE:20230622
DESCRIPTION:Property ID# 557981\, Locatoin: Harcourts Gold Papanui\, 471 Pa
 panui Road\, Christchurch. (unless sold prior)\, Time: 10:00AM
SUMMARY:Auction for 
END:VEVENT
END:VCALENDAR
