BEGIN:VCALENDAR
VERSION:2.0
PRODID:icalendar-ruby
CALSCALE:GREGORIAN
BEGIN:VEVENT
DTSTAMP:20260422T180359Z
UID:d82a0eed-7e90-4d55-b82a-1d087f4c5f76
DTSTART;VALUE=DATE:20230809
DESCRIPTION:Property ID# 559859\, Locatoin: 471 Papanui Road (Gold Auction 
 Rooms)\, Time: 12:00PM
SUMMARY:Auction for 
END:VEVENT
END:VCALENDAR
