BEGIN:VCALENDAR
VERSION:2.0
PRODID:icalendar-ruby
CALSCALE:GREGORIAN
BEGIN:VEVENT
DTSTAMP:20260422T180832Z
UID:bce898e8-9ca4-4c9e-9c3a-5d13661825f4
DTSTART;VALUE=DATE:20231005
DESCRIPTION:Property ID# 561065\, Locatoin: Harcourts Gold Auction Rooms\, 
 471 Papanui Road\, Christchurch (unless sold prior)\, Time: 10:00AM
SUMMARY:Auction for 
END:VEVENT
END:VCALENDAR
