BEGIN:VCALENDAR
VERSION:2.0
PRODID:icalendar-ruby
CALSCALE:GREGORIAN
BEGIN:VEVENT
DTSTAMP:20260422T180514Z
UID:a947e01b-d0f6-4f73-bbd1-0227f78ca9e1
DTSTART;VALUE=DATE:20231026
DESCRIPTION:Property ID# 563369\, Locatoin: Gold Auction Rooms\, 471 Papanu
 i Road (unless sold prior)\, Time: 10:00AM
SUMMARY:Auction for 
END:VEVENT
END:VCALENDAR
