BEGIN:VCALENDAR
VERSION:2.0
PRODID:icalendar-ruby
CALSCALE:GREGORIAN
BEGIN:VEVENT
DTSTAMP:20260422T180823Z
UID:3955eeda-6920-45b0-b1a9-9a111957c726
DTSTART;VALUE=DATE:20240424
DESCRIPTION:Property ID# 573223\, Locatoin: 471 Papanui Road (Gold Auction 
 Rooms)\, Time: 4:00PM
SUMMARY:Auction for 
END:VEVENT
END:VCALENDAR
