BEGIN:VCALENDAR
VERSION:2.0
PRODID:icalendar-ruby
CALSCALE:GREGORIAN
BEGIN:VEVENT
DTSTAMP:20260421T085100Z
UID:3a484e70-6274-458d-a57c-4717722cd4ac
DTSTART;VALUE=DATE:20240430
DESCRIPTION:Property ID# 574228\, Time: 12:00PM
SUMMARY:Auction for 
END:VEVENT
END:VCALENDAR
