BEGIN:VCALENDAR
VERSION:2.0
PRODID:icalendar-ruby
CALSCALE:GREGORIAN
BEGIN:VEVENT
DTSTAMP:20260420T144727Z
UID:b9d40dee-a62a-4801-9335-f111607bac75
DTSTART;VALUE=DATE:20240613
DESCRIPTION:Property ID# 574852\, Locatoin: Harcourts Grenadier 98 Moorhous
 e Avenue\, Time: 11:00AM
SUMMARY:Auction for 
END:VEVENT
END:VCALENDAR
