BEGIN:VCALENDAR
VERSION:2.0
PRODID:icalendar-ruby
CALSCALE:GREGORIAN
BEGIN:VEVENT
DTSTAMP:20260422T181218Z
UID:b61a5329-9f4a-493b-b26b-3075df2bd80a
DTSTART;VALUE=DATE:20240530
DESCRIPTION:Property ID# 575738\, Locatoin: Harcourts Gold Papanui\, 471 Pa
 panui Road\, Christchurch. (unless sold prior)\, Time: 10:00AM
SUMMARY:Auction for 
END:VEVENT
END:VCALENDAR
