BEGIN:VCALENDAR
VERSION:2.0
PRODID:icalendar-ruby
CALSCALE:GREGORIAN
BEGIN:VEVENT
DTSTAMP:20260424T075715Z
UID:db900c67-4ba9-45ce-a1cb-47e1087b37b1
DTSTART;VALUE=DATE:20240611
DESCRIPTION:Property ID# 576008\, Time: 12:00PM
SUMMARY:Auction for 
END:VEVENT
END:VCALENDAR
