BEGIN:VCALENDAR
VERSION:2.0
PRODID:icalendar-ruby
CALSCALE:GREGORIAN
BEGIN:VEVENT
DTSTAMP:20260419T121528Z
UID:1b8da514-a974-4502-b582-63fb0538282c
DTSTART;VALUE=DATE:20240917
DESCRIPTION:Property ID# 580313\, Time: 12:00PM
SUMMARY:Auction for 
END:VEVENT
END:VCALENDAR
