BEGIN:VCALENDAR
VERSION:2.0
PRODID:icalendar-ruby
CALSCALE:GREGORIAN
BEGIN:VEVENT
DTSTAMP:20260422T083000Z
UID:7be2f37f-47df-4d94-aba1-eff198598bfb
DTSTART;VALUE=DATE:20260305
DESCRIPTION:Property ID# 603689\, Locatoin: Halswell Grenadier Office - 379
  Halswell Road\, Halswell\, Time: 3:00PM
SUMMARY:Auction for 3/5 Trist Place
END:VEVENT
END:VCALENDAR
